BEGIN:VCALENDAR
VERSION:2.0
PRODID:-//hacksw/handcal//NONSGML v1.0//EN
BEGIN:VEVENT
SUMMARY:TAE CR DN Bazainville
UID:cbd7e3c0-06ef-4f7c-bfde-b88663378350
DTSTART:20260627T220000Z
DTEND:20260628T220000Z
LOCATION:Localisation   
CATEGORIES:Sportif
STATUS:
URL;VALUE=URI:https://www.caph78.fr/evenements/2026/06/28/tae-cr-dn-bazainville-2376062
END:VEVENT
END:VCALENDAR
