BEGIN:VCALENDAR
VERSION:2.0
PRODID:-//hacksw/handcal//NONSGML v1.0//EN
BEGIN:VEVENT
SUMMARY:Debutants petits bouts Bazainville
UID:c791bd55-69af-4200-b297-d4af71796ab7
DTSTART:20260626T220000Z
DTEND:20260627T220000Z
LOCATION:Localisation   
CATEGORIES:Sportif
STATUS:
URL;VALUE=URI:https://www.caph78.fr/evenements/2026/06/27/debutants-petits-bouts-bazainville-2376061
END:VEVENT
END:VCALENDAR
