BEGIN:VCALENDAR
VERSION:2.0
PRODID:-//hacksw/handcal//NONSGML v1.0//EN
BEGIN:VEVENT
SUMMARY:TAE CR DI Creteil
UID:4adbeba0-271e-49ae-b0b3-a2fba4b42ac0
DTSTART:20260619T220000Z
DTEND:20260621T220000Z
LOCATION:Localisation   
CATEGORIES:Sportif
STATUS:
DESCRIPTION:<p><a
 href="https://extranet.ffta.fr/medias/documents_epreuves/10ef7b31740752.pdf"
 target="_blank" rel="noreferrer noopener">Mandat</a></p>
URL;VALUE=URI:https://www.caph78.fr/evenements/2026/06/20/tae-cr-di-creteil-2376070
END:VEVENT
END:VCALENDAR
