BEGIN:VCALENDAR
VERSION:2.0
PRODID:-//hacksw/handcal//NONSGML v1.0//EN
BEGIN:VEVENT
SUMMARY:Beursault 24h Ouzouler sur loire
UID:2660eaa4-8f62-481e-bd24-1ad74573ac4c
DTSTART:20260612T220000Z
DTEND:20260614T220000Z
LOCATION:Localisation   
CATEGORIES:Sportif
STATUS:
DESCRIPTION:<p><a
 href="https://compagnie-arc-ouzouer-sur-loire.e-monsite.com/medias/files/mandat-24h-beursault.pdf"
 target="_blank" rel="noreferrer noopener">Mandat</a></p>
URL;VALUE=URI:https://www.caph78.fr/evenements/2026/06/13/beursault-24h-ouzouler-sur-loire-2441352
END:VEVENT
END:VCALENDAR
