BEGIN:VCALENDAR
VERSION:2.0
PRODID:-//hacksw/handcal//NONSGML v1.0//EN
BEGIN:VEVENT
SUMMARY:Nature par equipes Draveil
UID:bc76e9fa-bd2c-4a9d-9db2-0513c17ec1b5
DTSTART:20260516T220000Z
DTEND:20260517T220000Z
LOCATION:Localisation   
CATEGORIES:Sportif
STATUS:
DESCRIPTION:<p><a
 href="https://www.tiralarcidf.com/docs/mandats/mandat986.pdf"
 target="_blank" rel="noreferrer noopener">Mandat</a></p>
URL;VALUE=URI:https://www.caph78.fr/evenements/2026/05/17/nature-par-equipes-draveil-2430823
END:VEVENT
END:VCALENDAR
