BEGIN:VCALENDAR
VERSION:2.0
PRODID:-//hacksw/handcal//NONSGML v1.0//EN
BEGIN:VEVENT
SUMMARY:Nature Amboise
UID:901b3013-2c68-4454-b6ea-cf336b29b58d
DTSTART:20260516T220000Z
DTEND:20260517T220000Z
LOCATION:Localisation   
CATEGORIES:Sportif
STATUS:
DESCRIPTION:<p><a
 href="https://admin.sportsregions.fr/media/uploaded/sites/12275/kcupload/files/Sportif/Mandats-Inscriptions/Nature/05_Nature-Champ.Reg._Amboise_19-05-2026.pdf"
 target="_blank" rel="noreferrer noopener">Mandat</a></p>
URL;VALUE=URI:https://www.caph78.fr/evenements/2026/05/17/nature-amboise-2434757
END:VEVENT
END:VCALENDAR
