BEGIN:VCALENDAR
VERSION:2.0
PRODID:-//hacksw/handcal//NONSGML v1.0//EN
BEGIN:VEVENT
SUMMARY:TAE Colombes
UID:bbf4dc4a-9222-49ee-8835-c0ce2b76dfb1
DTSTART:20260515T220000Z
DTEND:20260517T220000Z
LOCATION:Localisation   
CATEGORIES:Sportif
STATUS:
DESCRIPTION:<p><a
 href="https://www.tiralarcidf.com/docs/mandats/mandat987.pdf"
 target="_blank" rel="noreferrer noopener">Mandat</a></p>
URL;VALUE=URI:https://www.caph78.fr/evenements/2026/05/16/tae-colombes-2434748
END:VEVENT
END:VCALENDAR
