BEGIN:VCALENDAR
VERSION:2.0
PRODID:-//hacksw/handcal//NONSGML v1.0//EN
BEGIN:VEVENT
SUMMARY:TAE Dravail Senart
UID:bf0ff0e7-7c57-4e97-b3a0-964d4150ad01
DTSTART:20260513T220000Z
DTEND:20260514T220000Z
LOCATION:Localisation   
CATEGORIES:Sportif
STATUS:
DESCRIPTION:<p><a
 href="https://www.tiralarcidf.com/docs/mandats/mandat988.pdf"
 target="_blank" rel="noreferrer noopener">Mandat</a></p>
URL;VALUE=URI:https://www.caph78.fr/evenements/2026/05/14/tae-dravail-senart-2435494
END:VEVENT
END:VCALENDAR
