BEGIN:VCALENDAR
VERSION:2.0
PRODID:-//hacksw/handcal//NONSGML v1.0//EN
BEGIN:VEVENT
SUMMARY:TAE Villepreux
UID:29edfa93-8a46-4d32-a611-226de300aff5
DTSTART:20260507T220000Z
DTEND:20260510T220000Z
LOCATION:Localisation   
CATEGORIES:Sportif
STATUS:
DESCRIPTION:<p><a
 href="https://www.tiralarcidf.com/docs/mandats/mandat982.pdf"
 target="_blank" rel="noreferrer noopener">Mandat</a></p>
URL;VALUE=URI:https://www.caph78.fr/evenements/2026/05/08/tae-villepreux-2439117
END:VEVENT
END:VCALENDAR
