BEGIN:VCALENDAR
VERSION:2.0
PRODID:-//hacksw/handcal//NONSGML v1.0//EN
BEGIN:VEVENT
SUMMARY:Nature Rouen
UID:88d4de98-99f2-4ca2-b77a-69faeee2aa25
DTSTART:20260502T220000Z
DTEND:20260503T220000Z
LOCATION:Localisation   
CATEGORIES:Sportif
STATUS:
DESCRIPTION:<p><a
 href="https://tiralarc-normandie.fr/wp-content/uploads/2026/04/2026-05-03-Mandat-Nature.pdf"
 target="_blank" rel="noreferrer noopener">Mandat</a></p>
URL;VALUE=URI:https://www.caph78.fr/evenements/2026/05/03/nature-rouen-2438237
END:VEVENT
END:VCALENDAR
